BEGIN:VCALENDAR
VERSION:2.0
PRODID:-//Christ Church Oshawa - ECPv6.15.20//NONSGML v1.0//EN
CALSCALE:GREGORIAN
METHOD:PUBLISH
X-ORIGINAL-URL:https://www.christchurchoshawa.ca
X-WR-CALDESC:Events for Christ Church Oshawa
REFRESH-INTERVAL;VALUE=DURATION:PT1H
X-Robots-Tag:noindex
X-PUBLISHED-TTL:PT1H
BEGIN:VTIMEZONE
TZID:America/Toronto
BEGIN:DAYLIGHT
TZOFFSETFROM:-0500
TZOFFSETTO:-0400
TZNAME:EDT
DTSTART:20250309T070000
END:DAYLIGHT
BEGIN:STANDARD
TZOFFSETFROM:-0400
TZOFFSETTO:-0500
TZNAME:EST
DTSTART:20251102T060000
END:STANDARD
BEGIN:DAYLIGHT
TZOFFSETFROM:-0500
TZOFFSETTO:-0400
TZNAME:EDT
DTSTART:20260308T070000
END:DAYLIGHT
BEGIN:STANDARD
TZOFFSETFROM:-0400
TZOFFSETTO:-0500
TZNAME:EST
DTSTART:20261101T060000
END:STANDARD
BEGIN:DAYLIGHT
TZOFFSETFROM:-0500
TZOFFSETTO:-0400
TZNAME:EDT
DTSTART:20270314T070000
END:DAYLIGHT
BEGIN:STANDARD
TZOFFSETFROM:-0400
TZOFFSETTO:-0500
TZNAME:EST
DTSTART:20271107T060000
END:STANDARD
END:VTIMEZONE
BEGIN:VEVENT
DTSTART;TZID=America/Toronto:20260501T100000
DTEND;TZID=America/Toronto:20260501T100000
DTSTAMP:20260423T151136
CREATED:20260108T202517Z
LAST-MODIFIED:20260108T202831Z
UID:10018967-1777629600-1777629600@www.christchurchoshawa.ca
SUMMARY:Sunshine Family Thrift Shop
DESCRIPTION:Thursdays & Fridays 10 am – 4 pm\, Saturdays 10 am – 2 pm \nAlways new things to check out! Come and see! \n 
URL:https://www.christchurchoshawa.ca/event/sunshine-family-thrift-shop-2/2026-05-01/
LOCATION:Christ Church\, Oshawa\, 81 Hillcroft Street\, Oshawa\, ON\, L1G2L3\, Canada
CATEGORIES:Community
ATTACH;FMTTYPE=image/jpeg:https://www.christchurchoshawa.ca/wp-content/uploads/2023/06/Logo-SFTS-e1727202737549.jpg
END:VEVENT
BEGIN:VEVENT
DTSTART;TZID=America/Toronto:20260501T183000
DTEND;TZID=America/Toronto:20260501T183000
DTSTAMP:20260423T151136
CREATED:20260408T192808Z
LAST-MODIFIED:20260408T192808Z
UID:10019160-1777660200-1777660200@www.christchurchoshawa.ca
SUMMARY:The Mask of the Golden Gaels
DESCRIPTION:Beech Street Theatre Company presents: The Mask of the Golden Gaels \nFriday May 1st\, 2026\, 7:15 pm (doors open 6:30) A murder mystery with Kit Greaves \nCoffee\, tea and dessert buffet are included. Tickets available  – $20/person \nSee Mary Bowen at Coffee Hour. This is a fundraising project for Christ Church. \n 
URL:https://www.christchurchoshawa.ca/event/the-mask-of-the-golden-gaels/
LOCATION:Christ Church\, Oshawa\, 81 Hillcroft Street\, Oshawa\, ON\, L1G2L3\, Canada
END:VEVENT
BEGIN:VEVENT
DTSTART;TZID=America/Toronto:20260502T100000
DTEND;TZID=America/Toronto:20260502T100000
DTSTAMP:20260423T151136
CREATED:20260108T202517Z
LAST-MODIFIED:20260108T202831Z
UID:10018968-1777716000-1777716000@www.christchurchoshawa.ca
SUMMARY:Sunshine Family Thrift Shop
DESCRIPTION:Thursdays & Fridays 10 am – 4 pm\, Saturdays 10 am – 2 pm \nAlways new things to check out! Come and see! \n 
URL:https://www.christchurchoshawa.ca/event/sunshine-family-thrift-shop-2/2026-05-02/
LOCATION:Christ Church\, Oshawa\, 81 Hillcroft Street\, Oshawa\, ON\, L1G2L3\, Canada
CATEGORIES:Community
ATTACH;FMTTYPE=image/jpeg:https://www.christchurchoshawa.ca/wp-content/uploads/2023/06/Logo-SFTS-e1727202737549.jpg
END:VEVENT
BEGIN:VEVENT
DTSTART;TZID=America/Toronto:20260503T090000
DTEND;TZID=America/Toronto:20260503T090000
DTSTAMP:20260423T151136
CREATED:20260106T170151Z
LAST-MODIFIED:20260422T142436Z
UID:10018839-1777798800-1777798800@www.christchurchoshawa.ca
SUMMARY:Contemporary Service and Livestream
DESCRIPTION:Our 9am service is a contemporary Eucharist with a Worship Band and Children and Youth Programs. (The service is also Livestreamed.)
URL:https://www.christchurchoshawa.ca/event/sundays-9am-2-2/2026-05-03/
LOCATION:Christ Church\, Oshawa\, 81 Hillcroft Street\, Oshawa\, ON\, L1G2L3\, Canada
CATEGORIES:Sunday Services
ATTACH;FMTTYPE=image/jpeg:https://www.christchurchoshawa.ca/wp-content/uploads/2024/09/john-price-RAZQiZOX3mU-unsplash.jpg
END:VEVENT
BEGIN:VEVENT
DTSTART;TZID=America/Toronto:20260503T110000
DTEND;TZID=America/Toronto:20260503T110000
DTSTAMP:20260423T151136
CREATED:20260106T170640Z
LAST-MODIFIED:20260422T142605Z
UID:10018862-1777806000-1777806000@www.christchurchoshawa.ca
SUMMARY:Traditional Eucharist with Choir
DESCRIPTION:Our 11am service is a traditional Eucharist with Choir. A prayer team is available to pray with you during communion time.
URL:https://www.christchurchoshawa.ca/event/traditional-eucharist-with-choir-2-2/2026-05-03/
LOCATION:Christ Church\, Oshawa\, 81 Hillcroft Street\, Oshawa\, ON\, L1G2L3\, Canada
CATEGORIES:Sunday Services
ATTACH;FMTTYPE=image/jpeg:https://www.christchurchoshawa.ca/wp-content/uploads/178366724.jpg
END:VEVENT
BEGIN:VEVENT
DTSTART;TZID=America/Toronto:20260505T100000
DTEND;TZID=America/Toronto:20260505T113000
DTSTAMP:20260423T151136
CREATED:20260108T201957Z
LAST-MODIFIED:20260108T202023Z
UID:10018903-1777975200-1777980600@www.christchurchoshawa.ca
SUMMARY:Drop-in Playgroup
DESCRIPTION:Drop in Playgroup\, Tuesdays & Thursdays 10 am.  \nA place where parents\, grandparents\, and caregivers can bring their babies and toddlers to play. This is a free program and a great opportunity to get to know your neighbours. \nPlease talk to Fran if you are interested in helping out. \n 
URL:https://www.christchurchoshawa.ca/event/drop-in-playgroup-2-2/2026-05-05/
LOCATION:Christ Church\, Oshawa\, 81 Hillcroft Street\, Oshawa\, ON\, L1G2L3\, Canada
CATEGORIES:Community,Famlies
ATTACH;FMTTYPE=image/jpeg:https://www.christchurchoshawa.ca/wp-content/uploads/2022/04/Playgroup.jpg
END:VEVENT
BEGIN:VEVENT
DTSTART;TZID=America/Toronto:20260506T090000
DTEND;TZID=America/Toronto:20260506T090000
DTSTAMP:20260423T151136
CREATED:20241111T163021Z
LAST-MODIFIED:20260106T165645Z
UID:10017967-1778058000-1778058000@www.christchurchoshawa.ca
SUMMARY:Wednesday Morning Prayer
DESCRIPTION:Wednesday Morning Prayer\, Book of Common Prayer \nJoin us on the 1st & 3rd Wednesday of the month at 9 am for Morning Prayer with Holy Communion on the 2nd and 4th Weds\, includes scripture reading and silence for reflection. All welcome to pray. \n  \n 
URL:https://www.christchurchoshawa.ca/event/wednesday-morning-prayer/2026-05-06/
LOCATION:Christ Church\, Oshawa\, 81 Hillcroft Street\, Oshawa\, ON\, L1G2L3\, Canada
ATTACH;FMTTYPE=image/jpeg:https://www.christchurchoshawa.ca/wp-content/uploads/89364157.jpg
END:VEVENT
BEGIN:VEVENT
DTSTART;TZID=America/Toronto:20260507T100000
DTEND;TZID=America/Toronto:20260507T100000
DTSTAMP:20260423T151136
CREATED:20260108T202517Z
LAST-MODIFIED:20260108T202831Z
UID:10018969-1778148000-1778148000@www.christchurchoshawa.ca
SUMMARY:Sunshine Family Thrift Shop
DESCRIPTION:Thursdays & Fridays 10 am – 4 pm\, Saturdays 10 am – 2 pm \nAlways new things to check out! Come and see! \n 
URL:https://www.christchurchoshawa.ca/event/sunshine-family-thrift-shop-2/2026-05-07/
LOCATION:Christ Church\, Oshawa\, 81 Hillcroft Street\, Oshawa\, ON\, L1G2L3\, Canada
CATEGORIES:Community
ATTACH;FMTTYPE=image/jpeg:https://www.christchurchoshawa.ca/wp-content/uploads/2023/06/Logo-SFTS-e1727202737549.jpg
END:VEVENT
BEGIN:VEVENT
DTSTART;TZID=America/Toronto:20260507T100000
DTEND;TZID=America/Toronto:20260507T113000
DTSTAMP:20260423T151136
CREATED:20260108T201957Z
LAST-MODIFIED:20260108T202023Z
UID:10018904-1778148000-1778153400@www.christchurchoshawa.ca
SUMMARY:Drop-in Playgroup
DESCRIPTION:Drop in Playgroup\, Tuesdays & Thursdays 10 am.  \nA place where parents\, grandparents\, and caregivers can bring their babies and toddlers to play. This is a free program and a great opportunity to get to know your neighbours. \nPlease talk to Fran if you are interested in helping out. \n 
URL:https://www.christchurchoshawa.ca/event/drop-in-playgroup-2-2/2026-05-07/
LOCATION:Christ Church\, Oshawa\, 81 Hillcroft Street\, Oshawa\, ON\, L1G2L3\, Canada
CATEGORIES:Community,Famlies
ATTACH;FMTTYPE=image/jpeg:https://www.christchurchoshawa.ca/wp-content/uploads/2022/04/Playgroup.jpg
END:VEVENT
BEGIN:VEVENT
DTSTART;TZID=America/Toronto:20260507T130000
DTEND;TZID=America/Toronto:20260507T150000
DTSTAMP:20260423T151136
CREATED:20260407T191945Z
LAST-MODIFIED:20260407T192041Z
UID:10019151-1778158800-1778166000@www.christchurchoshawa.ca
SUMMARY:Craft Group
DESCRIPTION:Join Sheida for Craft Group. Bring the craft you are working on and join he for tea and a chat!
URL:https://www.christchurchoshawa.ca/event/craft-group-2/2026-05-07/
LOCATION:Christ Church\, Oshawa\, 81 Hillcroft Street\, Oshawa\, ON\, L1G2L3\, Canada
END:VEVENT
BEGIN:VEVENT
DTSTART;TZID=America/Toronto:20260508T100000
DTEND;TZID=America/Toronto:20260508T100000
DTSTAMP:20260423T151136
CREATED:20260108T202517Z
LAST-MODIFIED:20260108T202831Z
UID:10018970-1778234400-1778234400@www.christchurchoshawa.ca
SUMMARY:Sunshine Family Thrift Shop
DESCRIPTION:Thursdays & Fridays 10 am – 4 pm\, Saturdays 10 am – 2 pm \nAlways new things to check out! Come and see! \n 
URL:https://www.christchurchoshawa.ca/event/sunshine-family-thrift-shop-2/2026-05-08/
LOCATION:Christ Church\, Oshawa\, 81 Hillcroft Street\, Oshawa\, ON\, L1G2L3\, Canada
CATEGORIES:Community
ATTACH;FMTTYPE=image/jpeg:https://www.christchurchoshawa.ca/wp-content/uploads/2023/06/Logo-SFTS-e1727202737549.jpg
END:VEVENT
BEGIN:VEVENT
DTSTART;TZID=America/Toronto:20260509T100000
DTEND;TZID=America/Toronto:20260509T100000
DTSTAMP:20260423T151136
CREATED:20260108T202517Z
LAST-MODIFIED:20260108T202831Z
UID:10018971-1778320800-1778320800@www.christchurchoshawa.ca
SUMMARY:Sunshine Family Thrift Shop
DESCRIPTION:Thursdays & Fridays 10 am – 4 pm\, Saturdays 10 am – 2 pm \nAlways new things to check out! Come and see! \n 
URL:https://www.christchurchoshawa.ca/event/sunshine-family-thrift-shop-2/2026-05-09/
LOCATION:Christ Church\, Oshawa\, 81 Hillcroft Street\, Oshawa\, ON\, L1G2L3\, Canada
CATEGORIES:Community
ATTACH;FMTTYPE=image/jpeg:https://www.christchurchoshawa.ca/wp-content/uploads/2023/06/Logo-SFTS-e1727202737549.jpg
END:VEVENT
BEGIN:VEVENT
DTSTART;TZID=America/Toronto:20260509T190000
DTEND;TZID=America/Toronto:20260509T190000
DTSTAMP:20260423T151136
CREATED:20260421T162238Z
LAST-MODIFIED:20260421T162238Z
UID:10019164-1778353200-1778353200@www.christchurchoshawa.ca
SUMMARY:Youth Group Meeting
DESCRIPTION:All Youth ( grade 6 to grade 12) are invite to a short meeting on to talk about youth ministry in our congregation. Please let Rev. Franklin know if you plan to attend.
URL:https://www.christchurchoshawa.ca/event/youth-group-meeting/
LOCATION:Christ Church\, Oshawa\, 81 Hillcroft Street\, Oshawa\, ON\, L1G2L3\, Canada
END:VEVENT
BEGIN:VEVENT
DTSTART;TZID=America/Toronto:20260510T090000
DTEND;TZID=America/Toronto:20260510T090000
DTSTAMP:20260423T151136
CREATED:20260106T170151Z
LAST-MODIFIED:20260422T142436Z
UID:10018840-1778403600-1778403600@www.christchurchoshawa.ca
SUMMARY:Contemporary Service and Livestream
DESCRIPTION:Our 9am service is a contemporary Eucharist with a Worship Band and Children and Youth Programs. (The service is also Livestreamed.)
URL:https://www.christchurchoshawa.ca/event/sundays-9am-2-2/2026-05-10/
LOCATION:Christ Church\, Oshawa\, 81 Hillcroft Street\, Oshawa\, ON\, L1G2L3\, Canada
CATEGORIES:Sunday Services
ATTACH;FMTTYPE=image/jpeg:https://www.christchurchoshawa.ca/wp-content/uploads/2024/09/john-price-RAZQiZOX3mU-unsplash.jpg
END:VEVENT
BEGIN:VEVENT
DTSTART;TZID=America/Toronto:20260510T110000
DTEND;TZID=America/Toronto:20260510T110000
DTSTAMP:20260423T151136
CREATED:20260106T170640Z
LAST-MODIFIED:20260422T142605Z
UID:10018863-1778410800-1778410800@www.christchurchoshawa.ca
SUMMARY:Traditional Eucharist with Choir
DESCRIPTION:Our 11am service is a traditional Eucharist with Choir. A prayer team is available to pray with you during communion time.
URL:https://www.christchurchoshawa.ca/event/traditional-eucharist-with-choir-2-2/2026-05-10/
LOCATION:Christ Church\, Oshawa\, 81 Hillcroft Street\, Oshawa\, ON\, L1G2L3\, Canada
CATEGORIES:Sunday Services
ATTACH;FMTTYPE=image/jpeg:https://www.christchurchoshawa.ca/wp-content/uploads/178366724.jpg
END:VEVENT
BEGIN:VEVENT
DTSTART;TZID=America/Toronto:20260512T100000
DTEND;TZID=America/Toronto:20260512T113000
DTSTAMP:20260423T151136
CREATED:20260108T201957Z
LAST-MODIFIED:20260108T202023Z
UID:10018905-1778580000-1778585400@www.christchurchoshawa.ca
SUMMARY:Drop-in Playgroup
DESCRIPTION:Drop in Playgroup\, Tuesdays & Thursdays 10 am.  \nA place where parents\, grandparents\, and caregivers can bring their babies and toddlers to play. This is a free program and a great opportunity to get to know your neighbours. \nPlease talk to Fran if you are interested in helping out. \n 
URL:https://www.christchurchoshawa.ca/event/drop-in-playgroup-2-2/2026-05-12/
LOCATION:Christ Church\, Oshawa\, 81 Hillcroft Street\, Oshawa\, ON\, L1G2L3\, Canada
CATEGORIES:Community,Famlies
ATTACH;FMTTYPE=image/jpeg:https://www.christchurchoshawa.ca/wp-content/uploads/2022/04/Playgroup.jpg
END:VEVENT
BEGIN:VEVENT
DTSTART;TZID=America/Toronto:20260513T090000
DTEND;TZID=America/Toronto:20260513T090000
DTSTAMP:20260423T151136
CREATED:20241111T163021Z
LAST-MODIFIED:20260106T165645Z
UID:10017968-1778662800-1778662800@www.christchurchoshawa.ca
SUMMARY:Wednesday Morning Prayer
DESCRIPTION:Wednesday Morning Prayer\, Book of Common Prayer \nJoin us on the 1st & 3rd Wednesday of the month at 9 am for Morning Prayer with Holy Communion on the 2nd and 4th Weds\, includes scripture reading and silence for reflection. All welcome to pray. \n  \n 
URL:https://www.christchurchoshawa.ca/event/wednesday-morning-prayer/2026-05-13/
LOCATION:Christ Church\, Oshawa\, 81 Hillcroft Street\, Oshawa\, ON\, L1G2L3\, Canada
ATTACH;FMTTYPE=image/jpeg:https://www.christchurchoshawa.ca/wp-content/uploads/89364157.jpg
END:VEVENT
BEGIN:VEVENT
DTSTART;TZID=America/Toronto:20260514T100000
DTEND;TZID=America/Toronto:20260514T100000
DTSTAMP:20260423T151136
CREATED:20260108T202517Z
LAST-MODIFIED:20260108T202831Z
UID:10018972-1778752800-1778752800@www.christchurchoshawa.ca
SUMMARY:Sunshine Family Thrift Shop
DESCRIPTION:Thursdays & Fridays 10 am – 4 pm\, Saturdays 10 am – 2 pm \nAlways new things to check out! Come and see! \n 
URL:https://www.christchurchoshawa.ca/event/sunshine-family-thrift-shop-2/2026-05-14/
LOCATION:Christ Church\, Oshawa\, 81 Hillcroft Street\, Oshawa\, ON\, L1G2L3\, Canada
CATEGORIES:Community
ATTACH;FMTTYPE=image/jpeg:https://www.christchurchoshawa.ca/wp-content/uploads/2023/06/Logo-SFTS-e1727202737549.jpg
END:VEVENT
BEGIN:VEVENT
DTSTART;TZID=America/Toronto:20260514T100000
DTEND;TZID=America/Toronto:20260514T113000
DTSTAMP:20260423T151136
CREATED:20260108T201957Z
LAST-MODIFIED:20260108T202023Z
UID:10018906-1778752800-1778758200@www.christchurchoshawa.ca
SUMMARY:Drop-in Playgroup
DESCRIPTION:Drop in Playgroup\, Tuesdays & Thursdays 10 am.  \nA place where parents\, grandparents\, and caregivers can bring their babies and toddlers to play. This is a free program and a great opportunity to get to know your neighbours. \nPlease talk to Fran if you are interested in helping out. \n 
URL:https://www.christchurchoshawa.ca/event/drop-in-playgroup-2-2/2026-05-14/
LOCATION:Christ Church\, Oshawa\, 81 Hillcroft Street\, Oshawa\, ON\, L1G2L3\, Canada
CATEGORIES:Community,Famlies
ATTACH;FMTTYPE=image/jpeg:https://www.christchurchoshawa.ca/wp-content/uploads/2022/04/Playgroup.jpg
END:VEVENT
BEGIN:VEVENT
DTSTART;TZID=America/Toronto:20260514T130000
DTEND;TZID=America/Toronto:20260514T150000
DTSTAMP:20260423T151136
CREATED:20260407T191945Z
LAST-MODIFIED:20260407T192041Z
UID:10019152-1778763600-1778770800@www.christchurchoshawa.ca
SUMMARY:Craft Group
DESCRIPTION:Join Sheida for Craft Group. Bring the craft you are working on and join he for tea and a chat!
URL:https://www.christchurchoshawa.ca/event/craft-group-2/2026-05-14/
LOCATION:Christ Church\, Oshawa\, 81 Hillcroft Street\, Oshawa\, ON\, L1G2L3\, Canada
END:VEVENT
BEGIN:VEVENT
DTSTART;TZID=America/Toronto:20260514T190000
DTEND;TZID=America/Toronto:20260514T190000
DTSTAMP:20260423T151136
CREATED:20260421T161658Z
LAST-MODIFIED:20260421T161658Z
UID:10019163-1778785200-1778785200@www.christchurchoshawa.ca
SUMMARY:A Celebration of New Ministry
DESCRIPTION:Please join us as we celebrate the new ministry of Rev. Franklin Morales here at Christ Church.
URL:https://www.christchurchoshawa.ca/event/a-celebration-of-new-ministry/
LOCATION:Christ Church\, Oshawa\, 81 Hillcroft Street\, Oshawa\, ON\, L1G2L3\, Canada
ATTACH;FMTTYPE=image/jpeg:https://www.christchurchoshawa.ca/wp-content/uploads/2026/04/Rev.-Franklin-1.jpg
END:VEVENT
BEGIN:VEVENT
DTSTART;TZID=America/Toronto:20260515T100000
DTEND;TZID=America/Toronto:20260515T100000
DTSTAMP:20260423T151136
CREATED:20260108T202517Z
LAST-MODIFIED:20260108T202831Z
UID:10018973-1778839200-1778839200@www.christchurchoshawa.ca
SUMMARY:Sunshine Family Thrift Shop
DESCRIPTION:Thursdays & Fridays 10 am – 4 pm\, Saturdays 10 am – 2 pm \nAlways new things to check out! Come and see! \n 
URL:https://www.christchurchoshawa.ca/event/sunshine-family-thrift-shop-2/2026-05-15/
LOCATION:Christ Church\, Oshawa\, 81 Hillcroft Street\, Oshawa\, ON\, L1G2L3\, Canada
CATEGORIES:Community
ATTACH;FMTTYPE=image/jpeg:https://www.christchurchoshawa.ca/wp-content/uploads/2023/06/Logo-SFTS-e1727202737549.jpg
END:VEVENT
BEGIN:VEVENT
DTSTART;TZID=America/Toronto:20260516T100000
DTEND;TZID=America/Toronto:20260516T100000
DTSTAMP:20260423T151136
CREATED:20260108T202517Z
LAST-MODIFIED:20260108T202831Z
UID:10018974-1778925600-1778925600@www.christchurchoshawa.ca
SUMMARY:Sunshine Family Thrift Shop
DESCRIPTION:Thursdays & Fridays 10 am – 4 pm\, Saturdays 10 am – 2 pm \nAlways new things to check out! Come and see! \n 
URL:https://www.christchurchoshawa.ca/event/sunshine-family-thrift-shop-2/2026-05-16/
LOCATION:Christ Church\, Oshawa\, 81 Hillcroft Street\, Oshawa\, ON\, L1G2L3\, Canada
CATEGORIES:Community
ATTACH;FMTTYPE=image/jpeg:https://www.christchurchoshawa.ca/wp-content/uploads/2023/06/Logo-SFTS-e1727202737549.jpg
END:VEVENT
BEGIN:VEVENT
DTSTART;TZID=America/Toronto:20260517T090000
DTEND;TZID=America/Toronto:20260517T090000
DTSTAMP:20260423T151136
CREATED:20260106T170151Z
LAST-MODIFIED:20260422T142436Z
UID:10018841-1779008400-1779008400@www.christchurchoshawa.ca
SUMMARY:Contemporary Service and Livestream
DESCRIPTION:Our 9am service is a contemporary Eucharist with a Worship Band and Children and Youth Programs. (The service is also Livestreamed.)
URL:https://www.christchurchoshawa.ca/event/sundays-9am-2-2/2026-05-17/
LOCATION:Christ Church\, Oshawa\, 81 Hillcroft Street\, Oshawa\, ON\, L1G2L3\, Canada
CATEGORIES:Sunday Services
ATTACH;FMTTYPE=image/jpeg:https://www.christchurchoshawa.ca/wp-content/uploads/2024/09/john-price-RAZQiZOX3mU-unsplash.jpg
END:VEVENT
BEGIN:VEVENT
DTSTART;TZID=America/Toronto:20260517T110000
DTEND;TZID=America/Toronto:20260517T110000
DTSTAMP:20260423T151136
CREATED:20260106T170640Z
LAST-MODIFIED:20260422T142605Z
UID:10018864-1779015600-1779015600@www.christchurchoshawa.ca
SUMMARY:Traditional Eucharist with Choir
DESCRIPTION:Our 11am service is a traditional Eucharist with Choir. A prayer team is available to pray with you during communion time.
URL:https://www.christchurchoshawa.ca/event/traditional-eucharist-with-choir-2-2/2026-05-17/
LOCATION:Christ Church\, Oshawa\, 81 Hillcroft Street\, Oshawa\, ON\, L1G2L3\, Canada
CATEGORIES:Sunday Services
ATTACH;FMTTYPE=image/jpeg:https://www.christchurchoshawa.ca/wp-content/uploads/178366724.jpg
END:VEVENT
BEGIN:VEVENT
DTSTART;TZID=America/Toronto:20260519T100000
DTEND;TZID=America/Toronto:20260519T113000
DTSTAMP:20260423T151136
CREATED:20260108T201957Z
LAST-MODIFIED:20260108T202023Z
UID:10018907-1779184800-1779190200@www.christchurchoshawa.ca
SUMMARY:Drop-in Playgroup
DESCRIPTION:Drop in Playgroup\, Tuesdays & Thursdays 10 am.  \nA place where parents\, grandparents\, and caregivers can bring their babies and toddlers to play. This is a free program and a great opportunity to get to know your neighbours. \nPlease talk to Fran if you are interested in helping out. \n 
URL:https://www.christchurchoshawa.ca/event/drop-in-playgroup-2-2/2026-05-19/
LOCATION:Christ Church\, Oshawa\, 81 Hillcroft Street\, Oshawa\, ON\, L1G2L3\, Canada
CATEGORIES:Community,Famlies
ATTACH;FMTTYPE=image/jpeg:https://www.christchurchoshawa.ca/wp-content/uploads/2022/04/Playgroup.jpg
END:VEVENT
BEGIN:VEVENT
DTSTART;TZID=America/Toronto:20260520T090000
DTEND;TZID=America/Toronto:20260520T090000
DTSTAMP:20260423T151136
CREATED:20241111T163021Z
LAST-MODIFIED:20260106T165645Z
UID:10017969-1779267600-1779267600@www.christchurchoshawa.ca
SUMMARY:Wednesday Morning Prayer
DESCRIPTION:Wednesday Morning Prayer\, Book of Common Prayer \nJoin us on the 1st & 3rd Wednesday of the month at 9 am for Morning Prayer with Holy Communion on the 2nd and 4th Weds\, includes scripture reading and silence for reflection. All welcome to pray. \n  \n 
URL:https://www.christchurchoshawa.ca/event/wednesday-morning-prayer/2026-05-20/
LOCATION:Christ Church\, Oshawa\, 81 Hillcroft Street\, Oshawa\, ON\, L1G2L3\, Canada
ATTACH;FMTTYPE=image/jpeg:https://www.christchurchoshawa.ca/wp-content/uploads/89364157.jpg
END:VEVENT
BEGIN:VEVENT
DTSTART;TZID=America/Toronto:20260521T100000
DTEND;TZID=America/Toronto:20260521T100000
DTSTAMP:20260423T151136
CREATED:20260108T202517Z
LAST-MODIFIED:20260108T202831Z
UID:10018975-1779357600-1779357600@www.christchurchoshawa.ca
SUMMARY:Sunshine Family Thrift Shop
DESCRIPTION:Thursdays & Fridays 10 am – 4 pm\, Saturdays 10 am – 2 pm \nAlways new things to check out! Come and see! \n 
URL:https://www.christchurchoshawa.ca/event/sunshine-family-thrift-shop-2/2026-05-21/
LOCATION:Christ Church\, Oshawa\, 81 Hillcroft Street\, Oshawa\, ON\, L1G2L3\, Canada
CATEGORIES:Community
ATTACH;FMTTYPE=image/jpeg:https://www.christchurchoshawa.ca/wp-content/uploads/2023/06/Logo-SFTS-e1727202737549.jpg
END:VEVENT
BEGIN:VEVENT
DTSTART;TZID=America/Toronto:20260521T100000
DTEND;TZID=America/Toronto:20260521T113000
DTSTAMP:20260423T151136
CREATED:20260108T201957Z
LAST-MODIFIED:20260108T202023Z
UID:10018908-1779357600-1779363000@www.christchurchoshawa.ca
SUMMARY:Drop-in Playgroup
DESCRIPTION:Drop in Playgroup\, Tuesdays & Thursdays 10 am.  \nA place where parents\, grandparents\, and caregivers can bring their babies and toddlers to play. This is a free program and a great opportunity to get to know your neighbours. \nPlease talk to Fran if you are interested in helping out. \n 
URL:https://www.christchurchoshawa.ca/event/drop-in-playgroup-2-2/2026-05-21/
LOCATION:Christ Church\, Oshawa\, 81 Hillcroft Street\, Oshawa\, ON\, L1G2L3\, Canada
CATEGORIES:Community,Famlies
ATTACH;FMTTYPE=image/jpeg:https://www.christchurchoshawa.ca/wp-content/uploads/2022/04/Playgroup.jpg
END:VEVENT
BEGIN:VEVENT
DTSTART;TZID=America/Toronto:20260521T130000
DTEND;TZID=America/Toronto:20260521T150000
DTSTAMP:20260423T151136
CREATED:20260407T191945Z
LAST-MODIFIED:20260407T192041Z
UID:10019153-1779368400-1779375600@www.christchurchoshawa.ca
SUMMARY:Craft Group
DESCRIPTION:Join Sheida for Craft Group. Bring the craft you are working on and join he for tea and a chat!
URL:https://www.christchurchoshawa.ca/event/craft-group-2/2026-05-21/
LOCATION:Christ Church\, Oshawa\, 81 Hillcroft Street\, Oshawa\, ON\, L1G2L3\, Canada
END:VEVENT
END:VCALENDAR