BEGIN:VCALENDAR
VERSION:2.0
PRODID:-//Christ Church Oshawa - ECPv6.15.20//NONSGML v1.0//EN
CALSCALE:GREGORIAN
METHOD:PUBLISH
X-WR-CALNAME:Christ Church Oshawa
X-ORIGINAL-URL:https://www.christchurchoshawa.ca
X-WR-CALDESC:Events for Christ Church Oshawa
REFRESH-INTERVAL;VALUE=DURATION:PT1H
X-Robots-Tag:noindex
X-PUBLISHED-TTL:PT1H
BEGIN:VTIMEZONE
TZID:America/Toronto
BEGIN:DAYLIGHT
TZOFFSETFROM:-0500
TZOFFSETTO:-0400
TZNAME:EDT
DTSTART:20250309T070000
END:DAYLIGHT
BEGIN:STANDARD
TZOFFSETFROM:-0400
TZOFFSETTO:-0500
TZNAME:EST
DTSTART:20251102T060000
END:STANDARD
BEGIN:DAYLIGHT
TZOFFSETFROM:-0500
TZOFFSETTO:-0400
TZNAME:EDT
DTSTART:20260308T070000
END:DAYLIGHT
BEGIN:STANDARD
TZOFFSETFROM:-0400
TZOFFSETTO:-0500
TZNAME:EST
DTSTART:20261101T060000
END:STANDARD
BEGIN:DAYLIGHT
TZOFFSETFROM:-0500
TZOFFSETTO:-0400
TZNAME:EDT
DTSTART:20270314T070000
END:DAYLIGHT
BEGIN:STANDARD
TZOFFSETFROM:-0400
TZOFFSETTO:-0500
TZNAME:EST
DTSTART:20271107T060000
END:STANDARD
END:VTIMEZONE
BEGIN:VEVENT
DTSTART;TZID=America/Toronto:20260219T130000
DTEND;TZID=America/Toronto:20260219T150000
DTSTAMP:20260423T091349
CREATED:20260219T161913Z
LAST-MODIFIED:20260226T214427Z
UID:10019072-1771506000-1771513200@www.christchurchoshawa.ca
SUMMARY:Lenten Bible Study
DESCRIPTION:Rev. Catherine will once again provide a Lenten Study of the scriptures as we prepare for Easter.
URL:https://www.christchurchoshawa.ca/event/lenten-bible-study/2026-02-19/
LOCATION:Christ Church\, Oshawa\, 81 Hillcroft Street\, Oshawa\, ON\, L1G2L3\, Canada
ATTACH;FMTTYPE=image/jpeg:https://www.christchurchoshawa.ca/wp-content/uploads/2026/02/Lenten-Bible-Study-2025.jpg
END:VEVENT
BEGIN:VEVENT
DTSTART;TZID=America/Toronto:20260219T100000
DTEND;TZID=America/Toronto:20260219T113000
DTSTAMP:20260423T091349
CREATED:20260108T201957Z
LAST-MODIFIED:20260108T202023Z
UID:10018882-1771495200-1771500600@www.christchurchoshawa.ca
SUMMARY:Drop-in Playgroup
DESCRIPTION:Drop in Playgroup\, Tuesdays & Thursdays 10 am.  \nA place where parents\, grandparents\, and caregivers can bring their babies and toddlers to play. This is a free program and a great opportunity to get to know your neighbours. \nPlease talk to Fran if you are interested in helping out. \n 
URL:https://www.christchurchoshawa.ca/event/drop-in-playgroup-2-2/2026-02-19/
LOCATION:Christ Church\, Oshawa\, 81 Hillcroft Street\, Oshawa\, ON\, L1G2L3\, Canada
CATEGORIES:Community,Famlies
ATTACH;FMTTYPE=image/jpeg:https://www.christchurchoshawa.ca/wp-content/uploads/2022/04/Playgroup.jpg
END:VEVENT
BEGIN:VEVENT
DTSTART;TZID=America/Toronto:20260219T100000
DTEND;TZID=America/Toronto:20260219T100000
DTSTAMP:20260423T091349
CREATED:20260108T202517Z
LAST-MODIFIED:20260108T202831Z
UID:10018936-1771495200-1771495200@www.christchurchoshawa.ca
SUMMARY:Sunshine Family Thrift Shop
DESCRIPTION:Thursdays & Fridays 10 am – 4 pm\, Saturdays 10 am – 2 pm \nAlways new things to check out! Come and see! \n 
URL:https://www.christchurchoshawa.ca/event/sunshine-family-thrift-shop-2/2026-02-19/
LOCATION:Christ Church\, Oshawa\, 81 Hillcroft Street\, Oshawa\, ON\, L1G2L3\, Canada
CATEGORIES:Community
ATTACH;FMTTYPE=image/jpeg:https://www.christchurchoshawa.ca/wp-content/uploads/2023/06/Logo-SFTS-e1727202737549.jpg
END:VEVENT
BEGIN:VEVENT
DTSTART;TZID=America/Toronto:20260218T090000
DTEND;TZID=America/Toronto:20260218T090000
DTSTAMP:20260423T091349
CREATED:20241111T163021Z
LAST-MODIFIED:20260106T165645Z
UID:10017956-1771405200-1771405200@www.christchurchoshawa.ca
SUMMARY:Wednesday Morning Prayer
DESCRIPTION:Wednesday Morning Prayer\, Book of Common Prayer \nJoin us on the 1st & 3rd Wednesday of the month at 9 am for Morning Prayer with Holy Communion on the 2nd and 4th Weds\, includes scripture reading and silence for reflection. All welcome to pray. \n  \n 
URL:https://www.christchurchoshawa.ca/event/wednesday-morning-prayer/2026-02-18/
LOCATION:Christ Church\, Oshawa\, 81 Hillcroft Street\, Oshawa\, ON\, L1G2L3\, Canada
ATTACH;FMTTYPE=image/jpeg:https://www.christchurchoshawa.ca/wp-content/uploads/89364157.jpg
END:VEVENT
BEGIN:VEVENT
DTSTART;TZID=America/Toronto:20260217T100000
DTEND;TZID=America/Toronto:20260217T113000
DTSTAMP:20260423T091349
CREATED:20260108T201957Z
LAST-MODIFIED:20260108T202023Z
UID:10018881-1771322400-1771327800@www.christchurchoshawa.ca
SUMMARY:Drop-in Playgroup
DESCRIPTION:Drop in Playgroup\, Tuesdays & Thursdays 10 am.  \nA place where parents\, grandparents\, and caregivers can bring their babies and toddlers to play. This is a free program and a great opportunity to get to know your neighbours. \nPlease talk to Fran if you are interested in helping out. \n 
URL:https://www.christchurchoshawa.ca/event/drop-in-playgroup-2-2/2026-02-17/
LOCATION:Christ Church\, Oshawa\, 81 Hillcroft Street\, Oshawa\, ON\, L1G2L3\, Canada
CATEGORIES:Community,Famlies
ATTACH;FMTTYPE=image/jpeg:https://www.christchurchoshawa.ca/wp-content/uploads/2022/04/Playgroup.jpg
END:VEVENT
BEGIN:VEVENT
DTSTART;TZID=America/Toronto:20260215T110000
DTEND;TZID=America/Toronto:20260215T110000
DTSTAMP:20260423T091349
CREATED:20260106T170640Z
LAST-MODIFIED:20260422T142605Z
UID:10018852-1771153200-1771153200@www.christchurchoshawa.ca
SUMMARY:Traditional Eucharist with Choir
DESCRIPTION:Our 11am service is a traditional Eucharist with Choir. A prayer team is available to pray with you during communion time.
URL:https://www.christchurchoshawa.ca/event/traditional-eucharist-with-choir-2-2/2026-02-15/
LOCATION:Christ Church\, Oshawa\, 81 Hillcroft Street\, Oshawa\, ON\, L1G2L3\, Canada
CATEGORIES:Sunday Services
ATTACH;FMTTYPE=image/jpeg:https://www.christchurchoshawa.ca/wp-content/uploads/178366724.jpg
END:VEVENT
BEGIN:VEVENT
DTSTART;TZID=America/Toronto:20260215T090000
DTEND;TZID=America/Toronto:20260215T090000
DTSTAMP:20260423T091349
CREATED:20260106T170151Z
LAST-MODIFIED:20260422T142436Z
UID:10018829-1771146000-1771146000@www.christchurchoshawa.ca
SUMMARY:Contemporary Service and Livestream
DESCRIPTION:Our 9am service is a contemporary Eucharist with a Worship Band and Children and Youth Programs. (The service is also Livestreamed.)
URL:https://www.christchurchoshawa.ca/event/sundays-9am-2-2/2026-02-15/
LOCATION:Christ Church\, Oshawa\, 81 Hillcroft Street\, Oshawa\, ON\, L1G2L3\, Canada
CATEGORIES:Sunday Services
ATTACH;FMTTYPE=image/jpeg:https://www.christchurchoshawa.ca/wp-content/uploads/2024/09/john-price-RAZQiZOX3mU-unsplash.jpg
END:VEVENT
BEGIN:VEVENT
DTSTART;TZID=America/Toronto:20260214T100000
DTEND;TZID=America/Toronto:20260214T100000
DTSTAMP:20260423T091349
CREATED:20260108T202517Z
LAST-MODIFIED:20260108T202831Z
UID:10018935-1771063200-1771063200@www.christchurchoshawa.ca
SUMMARY:Sunshine Family Thrift Shop
DESCRIPTION:Thursdays & Fridays 10 am – 4 pm\, Saturdays 10 am – 2 pm \nAlways new things to check out! Come and see! \n 
URL:https://www.christchurchoshawa.ca/event/sunshine-family-thrift-shop-2/2026-02-14/
LOCATION:Christ Church\, Oshawa\, 81 Hillcroft Street\, Oshawa\, ON\, L1G2L3\, Canada
CATEGORIES:Community
ATTACH;FMTTYPE=image/jpeg:https://www.christchurchoshawa.ca/wp-content/uploads/2023/06/Logo-SFTS-e1727202737549.jpg
END:VEVENT
BEGIN:VEVENT
DTSTART;TZID=America/Toronto:20260213T100000
DTEND;TZID=America/Toronto:20260213T100000
DTSTAMP:20260423T091349
CREATED:20260108T202517Z
LAST-MODIFIED:20260108T202831Z
UID:10018934-1770976800-1770976800@www.christchurchoshawa.ca
SUMMARY:Sunshine Family Thrift Shop
DESCRIPTION:Thursdays & Fridays 10 am – 4 pm\, Saturdays 10 am – 2 pm \nAlways new things to check out! Come and see! \n 
URL:https://www.christchurchoshawa.ca/event/sunshine-family-thrift-shop-2/2026-02-13/
LOCATION:Christ Church\, Oshawa\, 81 Hillcroft Street\, Oshawa\, ON\, L1G2L3\, Canada
CATEGORIES:Community
ATTACH;FMTTYPE=image/jpeg:https://www.christchurchoshawa.ca/wp-content/uploads/2023/06/Logo-SFTS-e1727202737549.jpg
END:VEVENT
BEGIN:VEVENT
DTSTART;TZID=America/Toronto:20260212T100000
DTEND;TZID=America/Toronto:20260212T113000
DTSTAMP:20260423T091349
CREATED:20260108T201957Z
LAST-MODIFIED:20260108T202023Z
UID:10018880-1770890400-1770895800@www.christchurchoshawa.ca
SUMMARY:Drop-in Playgroup
DESCRIPTION:Drop in Playgroup\, Tuesdays & Thursdays 10 am.  \nA place where parents\, grandparents\, and caregivers can bring their babies and toddlers to play. This is a free program and a great opportunity to get to know your neighbours. \nPlease talk to Fran if you are interested in helping out. \n 
URL:https://www.christchurchoshawa.ca/event/drop-in-playgroup-2-2/2026-02-12/
LOCATION:Christ Church\, Oshawa\, 81 Hillcroft Street\, Oshawa\, ON\, L1G2L3\, Canada
CATEGORIES:Community,Famlies
ATTACH;FMTTYPE=image/jpeg:https://www.christchurchoshawa.ca/wp-content/uploads/2022/04/Playgroup.jpg
END:VEVENT
BEGIN:VEVENT
DTSTART;TZID=America/Toronto:20260212T100000
DTEND;TZID=America/Toronto:20260212T100000
DTSTAMP:20260423T091349
CREATED:20260108T202517Z
LAST-MODIFIED:20260108T202831Z
UID:10018933-1770890400-1770890400@www.christchurchoshawa.ca
SUMMARY:Sunshine Family Thrift Shop
DESCRIPTION:Thursdays & Fridays 10 am – 4 pm\, Saturdays 10 am – 2 pm \nAlways new things to check out! Come and see! \n 
URL:https://www.christchurchoshawa.ca/event/sunshine-family-thrift-shop-2/2026-02-12/
LOCATION:Christ Church\, Oshawa\, 81 Hillcroft Street\, Oshawa\, ON\, L1G2L3\, Canada
CATEGORIES:Community
ATTACH;FMTTYPE=image/jpeg:https://www.christchurchoshawa.ca/wp-content/uploads/2023/06/Logo-SFTS-e1727202737549.jpg
END:VEVENT
BEGIN:VEVENT
DTSTART;TZID=America/Toronto:20260211T090000
DTEND;TZID=America/Toronto:20260211T090000
DTSTAMP:20260423T091349
CREATED:20241111T163021Z
LAST-MODIFIED:20260106T165645Z
UID:10017955-1770800400-1770800400@www.christchurchoshawa.ca
SUMMARY:Wednesday Morning Prayer
DESCRIPTION:Wednesday Morning Prayer\, Book of Common Prayer \nJoin us on the 1st & 3rd Wednesday of the month at 9 am for Morning Prayer with Holy Communion on the 2nd and 4th Weds\, includes scripture reading and silence for reflection. All welcome to pray. \n  \n 
URL:https://www.christchurchoshawa.ca/event/wednesday-morning-prayer/2026-02-11/
LOCATION:Christ Church\, Oshawa\, 81 Hillcroft Street\, Oshawa\, ON\, L1G2L3\, Canada
ATTACH;FMTTYPE=image/jpeg:https://www.christchurchoshawa.ca/wp-content/uploads/89364157.jpg
END:VEVENT
BEGIN:VEVENT
DTSTART;TZID=America/Toronto:20260210T100000
DTEND;TZID=America/Toronto:20260210T113000
DTSTAMP:20260423T091349
CREATED:20260108T201957Z
LAST-MODIFIED:20260108T202023Z
UID:10018879-1770717600-1770723000@www.christchurchoshawa.ca
SUMMARY:Drop-in Playgroup
DESCRIPTION:Drop in Playgroup\, Tuesdays & Thursdays 10 am.  \nA place where parents\, grandparents\, and caregivers can bring their babies and toddlers to play. This is a free program and a great opportunity to get to know your neighbours. \nPlease talk to Fran if you are interested in helping out. \n 
URL:https://www.christchurchoshawa.ca/event/drop-in-playgroup-2-2/2026-02-10/
LOCATION:Christ Church\, Oshawa\, 81 Hillcroft Street\, Oshawa\, ON\, L1G2L3\, Canada
CATEGORIES:Community,Famlies
ATTACH;FMTTYPE=image/jpeg:https://www.christchurchoshawa.ca/wp-content/uploads/2022/04/Playgroup.jpg
END:VEVENT
BEGIN:VEVENT
DTSTART;TZID=America/Toronto:20260208T110000
DTEND;TZID=America/Toronto:20260208T110000
DTSTAMP:20260423T091349
CREATED:20260106T170640Z
LAST-MODIFIED:20260422T142605Z
UID:10018851-1770548400-1770548400@www.christchurchoshawa.ca
SUMMARY:Traditional Eucharist with Choir
DESCRIPTION:Our 11am service is a traditional Eucharist with Choir. A prayer team is available to pray with you during communion time.
URL:https://www.christchurchoshawa.ca/event/traditional-eucharist-with-choir-2-2/2026-02-08/
LOCATION:Christ Church\, Oshawa\, 81 Hillcroft Street\, Oshawa\, ON\, L1G2L3\, Canada
CATEGORIES:Sunday Services
ATTACH;FMTTYPE=image/jpeg:https://www.christchurchoshawa.ca/wp-content/uploads/178366724.jpg
END:VEVENT
BEGIN:VEVENT
DTSTART;TZID=America/Toronto:20260208T090000
DTEND;TZID=America/Toronto:20260208T090000
DTSTAMP:20260423T091349
CREATED:20260106T170151Z
LAST-MODIFIED:20260422T142436Z
UID:10018828-1770541200-1770541200@www.christchurchoshawa.ca
SUMMARY:Contemporary Service and Livestream
DESCRIPTION:Our 9am service is a contemporary Eucharist with a Worship Band and Children and Youth Programs. (The service is also Livestreamed.)
URL:https://www.christchurchoshawa.ca/event/sundays-9am-2-2/2026-02-08/
LOCATION:Christ Church\, Oshawa\, 81 Hillcroft Street\, Oshawa\, ON\, L1G2L3\, Canada
CATEGORIES:Sunday Services
ATTACH;FMTTYPE=image/jpeg:https://www.christchurchoshawa.ca/wp-content/uploads/2024/09/john-price-RAZQiZOX3mU-unsplash.jpg
END:VEVENT
BEGIN:VEVENT
DTSTART;TZID=America/Toronto:20260207T100000
DTEND;TZID=America/Toronto:20260207T100000
DTSTAMP:20260423T091349
CREATED:20260108T202517Z
LAST-MODIFIED:20260108T202831Z
UID:10018932-1770458400-1770458400@www.christchurchoshawa.ca
SUMMARY:Sunshine Family Thrift Shop
DESCRIPTION:Thursdays & Fridays 10 am – 4 pm\, Saturdays 10 am – 2 pm \nAlways new things to check out! Come and see! \n 
URL:https://www.christchurchoshawa.ca/event/sunshine-family-thrift-shop-2/2026-02-07/
LOCATION:Christ Church\, Oshawa\, 81 Hillcroft Street\, Oshawa\, ON\, L1G2L3\, Canada
CATEGORIES:Community
ATTACH;FMTTYPE=image/jpeg:https://www.christchurchoshawa.ca/wp-content/uploads/2023/06/Logo-SFTS-e1727202737549.jpg
END:VEVENT
BEGIN:VEVENT
DTSTART;TZID=America/Toronto:20260206T100000
DTEND;TZID=America/Toronto:20260206T100000
DTSTAMP:20260423T091349
CREATED:20260108T202517Z
LAST-MODIFIED:20260108T202831Z
UID:10018931-1770372000-1770372000@www.christchurchoshawa.ca
SUMMARY:Sunshine Family Thrift Shop
DESCRIPTION:Thursdays & Fridays 10 am – 4 pm\, Saturdays 10 am – 2 pm \nAlways new things to check out! Come and see! \n 
URL:https://www.christchurchoshawa.ca/event/sunshine-family-thrift-shop-2/2026-02-06/
LOCATION:Christ Church\, Oshawa\, 81 Hillcroft Street\, Oshawa\, ON\, L1G2L3\, Canada
CATEGORIES:Community
ATTACH;FMTTYPE=image/jpeg:https://www.christchurchoshawa.ca/wp-content/uploads/2023/06/Logo-SFTS-e1727202737549.jpg
END:VEVENT
BEGIN:VEVENT
DTSTART;TZID=America/Toronto:20260205T100000
DTEND;TZID=America/Toronto:20260205T113000
DTSTAMP:20260423T091349
CREATED:20260108T201957Z
LAST-MODIFIED:20260108T202023Z
UID:10018878-1770285600-1770291000@www.christchurchoshawa.ca
SUMMARY:Drop-in Playgroup
DESCRIPTION:Drop in Playgroup\, Tuesdays & Thursdays 10 am.  \nA place where parents\, grandparents\, and caregivers can bring their babies and toddlers to play. This is a free program and a great opportunity to get to know your neighbours. \nPlease talk to Fran if you are interested in helping out. \n 
URL:https://www.christchurchoshawa.ca/event/drop-in-playgroup-2-2/2026-02-05/
LOCATION:Christ Church\, Oshawa\, 81 Hillcroft Street\, Oshawa\, ON\, L1G2L3\, Canada
CATEGORIES:Community,Famlies
ATTACH;FMTTYPE=image/jpeg:https://www.christchurchoshawa.ca/wp-content/uploads/2022/04/Playgroup.jpg
END:VEVENT
BEGIN:VEVENT
DTSTART;TZID=America/Toronto:20260205T100000
DTEND;TZID=America/Toronto:20260205T100000
DTSTAMP:20260423T091349
CREATED:20260108T202517Z
LAST-MODIFIED:20260108T202831Z
UID:10018930-1770285600-1770285600@www.christchurchoshawa.ca
SUMMARY:Sunshine Family Thrift Shop
DESCRIPTION:Thursdays & Fridays 10 am – 4 pm\, Saturdays 10 am – 2 pm \nAlways new things to check out! Come and see! \n 
URL:https://www.christchurchoshawa.ca/event/sunshine-family-thrift-shop-2/2026-02-05/
LOCATION:Christ Church\, Oshawa\, 81 Hillcroft Street\, Oshawa\, ON\, L1G2L3\, Canada
CATEGORIES:Community
ATTACH;FMTTYPE=image/jpeg:https://www.christchurchoshawa.ca/wp-content/uploads/2023/06/Logo-SFTS-e1727202737549.jpg
END:VEVENT
BEGIN:VEVENT
DTSTART;TZID=America/Toronto:20260204T090000
DTEND;TZID=America/Toronto:20260204T090000
DTSTAMP:20260423T091349
CREATED:20241111T163021Z
LAST-MODIFIED:20260106T165645Z
UID:10017954-1770195600-1770195600@www.christchurchoshawa.ca
SUMMARY:Wednesday Morning Prayer
DESCRIPTION:Wednesday Morning Prayer\, Book of Common Prayer \nJoin us on the 1st & 3rd Wednesday of the month at 9 am for Morning Prayer with Holy Communion on the 2nd and 4th Weds\, includes scripture reading and silence for reflection. All welcome to pray. \n  \n 
URL:https://www.christchurchoshawa.ca/event/wednesday-morning-prayer/2026-02-04/
LOCATION:Christ Church\, Oshawa\, 81 Hillcroft Street\, Oshawa\, ON\, L1G2L3\, Canada
ATTACH;FMTTYPE=image/jpeg:https://www.christchurchoshawa.ca/wp-content/uploads/89364157.jpg
END:VEVENT
BEGIN:VEVENT
DTSTART;TZID=America/Toronto:20260203T100000
DTEND;TZID=America/Toronto:20260203T113000
DTSTAMP:20260423T091349
CREATED:20260108T201957Z
LAST-MODIFIED:20260108T202023Z
UID:10018877-1770112800-1770118200@www.christchurchoshawa.ca
SUMMARY:Drop-in Playgroup
DESCRIPTION:Drop in Playgroup\, Tuesdays & Thursdays 10 am.  \nA place where parents\, grandparents\, and caregivers can bring their babies and toddlers to play. This is a free program and a great opportunity to get to know your neighbours. \nPlease talk to Fran if you are interested in helping out. \n 
URL:https://www.christchurchoshawa.ca/event/drop-in-playgroup-2-2/2026-02-03/
LOCATION:Christ Church\, Oshawa\, 81 Hillcroft Street\, Oshawa\, ON\, L1G2L3\, Canada
CATEGORIES:Community,Famlies
ATTACH;FMTTYPE=image/jpeg:https://www.christchurchoshawa.ca/wp-content/uploads/2022/04/Playgroup.jpg
END:VEVENT
BEGIN:VEVENT
DTSTART;TZID=America/Toronto:20260201T110000
DTEND;TZID=America/Toronto:20260201T110000
DTSTAMP:20260423T091349
CREATED:20260106T170640Z
LAST-MODIFIED:20260422T142605Z
UID:10018850-1769943600-1769943600@www.christchurchoshawa.ca
SUMMARY:Traditional Eucharist with Choir
DESCRIPTION:Our 11am service is a traditional Eucharist with Choir. A prayer team is available to pray with you during communion time.
URL:https://www.christchurchoshawa.ca/event/traditional-eucharist-with-choir-2-2/2026-02-01/
LOCATION:Christ Church\, Oshawa\, 81 Hillcroft Street\, Oshawa\, ON\, L1G2L3\, Canada
CATEGORIES:Sunday Services
ATTACH;FMTTYPE=image/jpeg:https://www.christchurchoshawa.ca/wp-content/uploads/178366724.jpg
END:VEVENT
BEGIN:VEVENT
DTSTART;TZID=America/Toronto:20260201T090000
DTEND;TZID=America/Toronto:20260201T090000
DTSTAMP:20260423T091349
CREATED:20260106T170151Z
LAST-MODIFIED:20260422T142436Z
UID:10018827-1769936400-1769936400@www.christchurchoshawa.ca
SUMMARY:Contemporary Service and Livestream
DESCRIPTION:Our 9am service is a contemporary Eucharist with a Worship Band and Children and Youth Programs. (The service is also Livestreamed.)
URL:https://www.christchurchoshawa.ca/event/sundays-9am-2-2/2026-02-01/
LOCATION:Christ Church\, Oshawa\, 81 Hillcroft Street\, Oshawa\, ON\, L1G2L3\, Canada
CATEGORIES:Sunday Services
ATTACH;FMTTYPE=image/jpeg:https://www.christchurchoshawa.ca/wp-content/uploads/2024/09/john-price-RAZQiZOX3mU-unsplash.jpg
END:VEVENT
BEGIN:VEVENT
DTSTART;TZID=America/Toronto:20260131T100000
DTEND;TZID=America/Toronto:20260131T100000
DTSTAMP:20260423T091349
CREATED:20260108T202517Z
LAST-MODIFIED:20260108T202831Z
UID:10018929-1769853600-1769853600@www.christchurchoshawa.ca
SUMMARY:Sunshine Family Thrift Shop
DESCRIPTION:Thursdays & Fridays 10 am – 4 pm\, Saturdays 10 am – 2 pm \nAlways new things to check out! Come and see! \n 
URL:https://www.christchurchoshawa.ca/event/sunshine-family-thrift-shop-2/2026-01-31/
LOCATION:Christ Church\, Oshawa\, 81 Hillcroft Street\, Oshawa\, ON\, L1G2L3\, Canada
CATEGORIES:Community
ATTACH;FMTTYPE=image/jpeg:https://www.christchurchoshawa.ca/wp-content/uploads/2023/06/Logo-SFTS-e1727202737549.jpg
END:VEVENT
BEGIN:VEVENT
DTSTART;TZID=America/Toronto:20260130T100000
DTEND;TZID=America/Toronto:20260130T100000
DTSTAMP:20260423T091349
CREATED:20260108T202517Z
LAST-MODIFIED:20260108T202831Z
UID:10018928-1769767200-1769767200@www.christchurchoshawa.ca
SUMMARY:Sunshine Family Thrift Shop
DESCRIPTION:Thursdays & Fridays 10 am – 4 pm\, Saturdays 10 am – 2 pm \nAlways new things to check out! Come and see! \n 
URL:https://www.christchurchoshawa.ca/event/sunshine-family-thrift-shop-2/2026-01-30/
LOCATION:Christ Church\, Oshawa\, 81 Hillcroft Street\, Oshawa\, ON\, L1G2L3\, Canada
CATEGORIES:Community
ATTACH;FMTTYPE=image/jpeg:https://www.christchurchoshawa.ca/wp-content/uploads/2023/06/Logo-SFTS-e1727202737549.jpg
END:VEVENT
BEGIN:VEVENT
DTSTART;TZID=America/Toronto:20260129T100000
DTEND;TZID=America/Toronto:20260129T113000
DTSTAMP:20260423T091349
CREATED:20260108T201957Z
LAST-MODIFIED:20260108T202023Z
UID:10018876-1769680800-1769686200@www.christchurchoshawa.ca
SUMMARY:Drop-in Playgroup
DESCRIPTION:Drop in Playgroup\, Tuesdays & Thursdays 10 am.  \nA place where parents\, grandparents\, and caregivers can bring their babies and toddlers to play. This is a free program and a great opportunity to get to know your neighbours. \nPlease talk to Fran if you are interested in helping out. \n 
URL:https://www.christchurchoshawa.ca/event/drop-in-playgroup-2-2/2026-01-29/
LOCATION:Christ Church\, Oshawa\, 81 Hillcroft Street\, Oshawa\, ON\, L1G2L3\, Canada
CATEGORIES:Community,Famlies
ATTACH;FMTTYPE=image/jpeg:https://www.christchurchoshawa.ca/wp-content/uploads/2022/04/Playgroup.jpg
END:VEVENT
BEGIN:VEVENT
DTSTART;TZID=America/Toronto:20260129T100000
DTEND;TZID=America/Toronto:20260129T100000
DTSTAMP:20260423T091349
CREATED:20260108T202517Z
LAST-MODIFIED:20260108T202831Z
UID:10018927-1769680800-1769680800@www.christchurchoshawa.ca
SUMMARY:Sunshine Family Thrift Shop
DESCRIPTION:Thursdays & Fridays 10 am – 4 pm\, Saturdays 10 am – 2 pm \nAlways new things to check out! Come and see! \n 
URL:https://www.christchurchoshawa.ca/event/sunshine-family-thrift-shop-2/2026-01-29/
LOCATION:Christ Church\, Oshawa\, 81 Hillcroft Street\, Oshawa\, ON\, L1G2L3\, Canada
CATEGORIES:Community
ATTACH;FMTTYPE=image/jpeg:https://www.christchurchoshawa.ca/wp-content/uploads/2023/06/Logo-SFTS-e1727202737549.jpg
END:VEVENT
BEGIN:VEVENT
DTSTART;TZID=America/Toronto:20260128T090000
DTEND;TZID=America/Toronto:20260128T090000
DTSTAMP:20260423T091349
CREATED:20241111T163021Z
LAST-MODIFIED:20260106T165645Z
UID:10017953-1769590800-1769590800@www.christchurchoshawa.ca
SUMMARY:Wednesday Morning Prayer
DESCRIPTION:Wednesday Morning Prayer\, Book of Common Prayer \nJoin us on the 1st & 3rd Wednesday of the month at 9 am for Morning Prayer with Holy Communion on the 2nd and 4th Weds\, includes scripture reading and silence for reflection. All welcome to pray. \n  \n 
URL:https://www.christchurchoshawa.ca/event/wednesday-morning-prayer/2026-01-28/
LOCATION:Christ Church\, Oshawa\, 81 Hillcroft Street\, Oshawa\, ON\, L1G2L3\, Canada
ATTACH;FMTTYPE=image/jpeg:https://www.christchurchoshawa.ca/wp-content/uploads/89364157.jpg
END:VEVENT
BEGIN:VEVENT
DTSTART;TZID=America/Toronto:20260127T100000
DTEND;TZID=America/Toronto:20260127T113000
DTSTAMP:20260423T091349
CREATED:20260108T201957Z
LAST-MODIFIED:20260108T202023Z
UID:10018875-1769508000-1769513400@www.christchurchoshawa.ca
SUMMARY:Drop-in Playgroup
DESCRIPTION:Drop in Playgroup\, Tuesdays & Thursdays 10 am.  \nA place where parents\, grandparents\, and caregivers can bring their babies and toddlers to play. This is a free program and a great opportunity to get to know your neighbours. \nPlease talk to Fran if you are interested in helping out. \n 
URL:https://www.christchurchoshawa.ca/event/drop-in-playgroup-2-2/2026-01-27/
LOCATION:Christ Church\, Oshawa\, 81 Hillcroft Street\, Oshawa\, ON\, L1G2L3\, Canada
CATEGORIES:Community,Famlies
ATTACH;FMTTYPE=image/jpeg:https://www.christchurchoshawa.ca/wp-content/uploads/2022/04/Playgroup.jpg
END:VEVENT
BEGIN:VEVENT
DTSTART;TZID=America/Toronto:20260125T110000
DTEND;TZID=America/Toronto:20260125T110000
DTSTAMP:20260423T091349
CREATED:20260106T170640Z
LAST-MODIFIED:20260422T142605Z
UID:10018849-1769338800-1769338800@www.christchurchoshawa.ca
SUMMARY:Traditional Eucharist with Choir
DESCRIPTION:Our 11am service is a traditional Eucharist with Choir. A prayer team is available to pray with you during communion time.
URL:https://www.christchurchoshawa.ca/event/traditional-eucharist-with-choir-2-2/2026-01-25/
LOCATION:Christ Church\, Oshawa\, 81 Hillcroft Street\, Oshawa\, ON\, L1G2L3\, Canada
CATEGORIES:Sunday Services
ATTACH;FMTTYPE=image/jpeg:https://www.christchurchoshawa.ca/wp-content/uploads/178366724.jpg
END:VEVENT
END:VCALENDAR